BEGIN:VCALENDAR
VERSION:2.0
PRODID:-//Association d'Astronomie Nemesis//NONSGML kigkonsult.se iCalcreat
 or 2.30.10//
CALSCALE:GREGORIAN
METHOD:PUBLISH
UID:6f789e1e-516e-4e80-a037-1a449b384403
X-WR-CALNAME:iCagenda
X-WR-CALDESC:Event Management Extension for Joomla!
X-WR-RELCALID:3E26604A-50F4-4449-8B3E-E4F4932D05B5
X-WR-TIMEZONE:Europe/Paris
BEGIN:VTIMEZONE
TZID:Europe/Paris
BEGIN:STANDARD
TZNAME:CET
DTSTART:20161030T030000
TZOFFSETFROM:+0200
TZOFFSETTO:+0100
RDATE:20171029T030000
RDATE:20181028T030000
END:STANDARD
BEGIN:DAYLIGHT
TZNAME:CEST
DTSTART:20170326T020000
TZOFFSETFROM:+0100
TZOFFSETTO:+0200
RDATE:20180325T020000
END:DAYLIGHT
END:VTIMEZONE
BEGIN:VEVENT
UID:f3532fc7-eafa-4fed-a338-6d54962c8a09
DTSTAMP:20260423T011603Z
CATEGORIES:Activité interne
CLASS:PUBLIC
DESCRIPTION;ALTREP="CID:<FFFF__=0ABBE548DFE235B58f9e8a93d@coffeebean.com>":
 Ouvert aux visiteurs :\nSi la météo le permet observation du ciel et astro
 photo.\nPrévoir des vêtements chauds et une lampe rouge pour préserver la 
 vision nocturne.\nLe maintien ou non de la soirée sera annoncé la veille a
 u soir sur notre page Facebook.\n&nbsp\;\nRéservé aux membres :\nEn cas de
  météo défavorable nous nous retrouverons dans notre local autour d'un suj
 et préparé à l'avance.\nLe sujet reste à définir\, l'agenda sera actualisé
  dès qu'il sera fixé.\n&nbsp\;\nLunaison : Dernier Croissant - 01h21 / 17h
 01 - Âge : 24j\nPlanètes visibles : Saturne - Neptune - Uranus\nObjets rem
 arquables : M92 - M57 - M2 - M27 - M15 - NGC7662\n&nbsp\;\n&nbsp\;\n&nbsp\
 ;\n&nbsp\;\n&nbsp\;\n&nbsp\;
DTSTART:20170915T180000Z
DTEND:20170915T215900Z
GEO:00;0
LOCATION:
ORGANIZER:
SEQUENCE:1
SUMMARY:Reunion du 15.09.2017
TRANSP:OPAQUE
URL:https://www.astronomie-nemesis.org/index.php/fr/agenda/94-reunion-du-20
 -01-2024
END:VEVENT
END:VCALENDAR
