BEGIN:VCALENDAR
VERSION:2.0
PRODID:-//Association d'Astronomie Nemesis//NONSGML kigkonsult.se iCalcreat
 or 2.30.10//
CALSCALE:GREGORIAN
METHOD:PUBLISH
UID:c75ef663-a667-4157-8223-748e09554496
X-WR-CALNAME:iCagenda
X-WR-CALDESC:Event Management Extension for Joomla!
X-WR-RELCALID:3E26604A-50F4-4449-8B3E-E4F4932D05B5
X-WR-TIMEZONE:Europe/Paris
BEGIN:VTIMEZONE
TZID:Europe/Paris
BEGIN:STANDARD
TZNAME:CET
DTSTART:20161030T030000
TZOFFSETFROM:+0200
TZOFFSETTO:+0100
RDATE:20171029T030000
END:STANDARD
BEGIN:DAYLIGHT
TZNAME:CEST
DTSTART:20170326T020000
TZOFFSETFROM:+0100
TZOFFSETTO:+0200
RDATE:20180325T020000
END:DAYLIGHT
END:VTIMEZONE
BEGIN:VEVENT
UID:ce5f1ae9-d349-4d91-b628-d35698f09bb7
DTSTAMP:20260423T001307Z
CATEGORIES:Activité interne
CLASS:PUBLIC
DESCRIPTION;ALTREP="CID:<FFFF__=0ABBE548DFE235B58f9e8a93d@coffeebean.com>":
 Réservé aux membres :\nJournée de présentation de Pixinsight\, logiciel de
  traitement d'images astrophotographique.\n- Présentation de l'environneme
 nt.- Démo prétraitement.- Démo traitement.\nRepas du midi à prévoir soit s
 ur place ou au restaurant du Haut Barr ?\nLunaison : Dernier Croissant - 0
 4h06 / 14h22 - Âge : 24j\nPlanètes visibles : Mars - Jupiter\nObjets remar
 quables : NGC2841 - M92 - M53 - M51 - M5 - M53 - M3\n&nbsp\;\n&nbsp\;
DTSTART:20170422T070000Z
DTEND:20170422T160000Z
GEO:00;0
LOCATION:
ORGANIZER:
SEQUENCE:1
SUMMARY:Reunion du 22.04.2017
TRANSP:OPAQUE
URL:https://www.astronomie-nemesis.org/index.php/fr/agenda/88-reunion-du-20
 -01-2020
END:VEVENT
END:VCALENDAR
