BEGIN:VCALENDAR
VERSION:2.0
PRODID:-//Association d'Astronomie Nemesis//NONSGML kigkonsult.se iCalcreat
 or 2.30.10//
CALSCALE:GREGORIAN
METHOD:PUBLISH
UID:632d3a76-f3ef-488a-99f7-85ec10907c1b
X-WR-CALNAME:iCagenda
X-WR-CALDESC:Event Management Extension for Joomla!
X-WR-RELCALID:3E26604A-50F4-4449-8B3E-E4F4932D05B5
X-WR-TIMEZONE:Europe/Paris
BEGIN:VTIMEZONE
TZID:Europe/Paris
BEGIN:STANDARD
TZNAME:CET
DTSTART:20171029T030000
TZOFFSETFROM:+0200
TZOFFSETTO:+0100
RDATE:20181028T030000
END:STANDARD
BEGIN:DAYLIGHT
TZNAME:CEST
DTSTART:20170326T020000
TZOFFSETFROM:+0100
TZOFFSETTO:+0200
RDATE:20180325T020000
RDATE:20190331T020000
END:DAYLIGHT
END:VTIMEZONE
BEGIN:VEVENT
UID:00209c54-5a0c-4daf-a869-a205f8f8ba13
DTSTAMP:20260423T142649Z
CATEGORIES:Activité interne
CLASS:PUBLIC
DESCRIPTION;ALTREP="CID:<FFFF__=0ABBE548DFE235B58f9e8a93d@coffeebean.com>":
 Ouvert aux visiteurs :\nSi la météo le permet observation du ciel et astro
 photo.\nPrévoir des vêtements chauds et une lampe rouge pour préserver la 
 vision nocturne.\nLe maintien ou non de la soirée sera annoncé la veille a
 u soir sur notre page Facebook.\nRéservé aux membres :\nEn cas de météo dé
 favorable nous nous retrouverons dans notre local autour d'un sujet défini
  à l'avance.\nLunaison : Nouvelle Lune - 06h29 / 17h25 - Âge : 28j\nPlanèt
 es visibles : Uranus\nObjets remarquables : \n- Boule de neige bleue (NGC7
 662)- IC 1848- IC 1805- NGC281- La Galaxie du Triangle (M33)- Grande Galax
 ie d'Andromède (M31 &amp\; M32)- NGC1931- NGC2403- NGC2903- NGC 4631- Nébu
 leuse du Hibou (M97)- Fantôme de Jupiter (NGC3242)- M53- La Galaxie du Tou
 rbillon (M51)- NGC2841- NGC2403- M3- Galaxie de Bode (M81 &amp\; M82)
DTSTART:20180316T180000Z
DTEND:20180316T180000Z
GEO:+48.724808;+7.338401
LOCATION:
ORGANIZER:
SEQUENCE:1
SUMMARY:Reunion du 16.03.2018
TRANSP:OPAQUE
URL:https://www.astronomie-nemesis.org/index.php/fr/agenda/87-reunion-du-20
 -01-2019/2018-03-16-19-00
END:VEVENT
END:VCALENDAR
