BEGIN:VCALENDAR
VERSION:2.0
PRODID:-//Association d'Astronomie Nemesis//NONSGML kigkonsult.se iCalcreat
 or 2.30.10//
CALSCALE:GREGORIAN
METHOD:PUBLISH
UID:0fa0761a-aa30-4818-bb0b-d305d4e4b963
X-WR-CALNAME:iCagenda
X-WR-CALDESC:Event Management Extension for Joomla!
X-WR-RELCALID:3E26604A-50F4-4449-8B3E-E4F4932D05B5
X-WR-TIMEZONE:Europe/Paris
BEGIN:VTIMEZONE
TZID:Europe/Paris
BEGIN:STANDARD
TZNAME:CET
DTSTART:20251026T030000
TZOFFSETFROM:+0200
TZOFFSETTO:+0100
RDATE:20261025T030000
END:STANDARD
BEGIN:DAYLIGHT
TZNAME:CEST
DTSTART:20250330T020000
TZOFFSETFROM:+0100
TZOFFSETTO:+0200
RDATE:20260329T020000
RDATE:20270328T020000
END:DAYLIGHT
END:VTIMEZONE
BEGIN:VEVENT
UID:3d15ab20-5fa2-41c8-bda8-0374821d3b8b
DTSTAMP:20260424T102148Z
CATEGORIES:Evénements publics
CLASS:PUBLIC
DESCRIPTION;ALTREP="CID:<FFFF__=0ABBE548DFE235B58f9e8a93d@coffeebean.com>":
 Si la météo nous le permet\, nous aurons grand plaisir à vous accueillir s
 ous les constellations remarquables du ciel de ce début de printemps\, pou
 r observer galaxies et nébuleuses qui parsèment notre voûte céleste.\nVend
 redi 21 Mars:o de 20h00 à 00h00\, observations nocturnes\nSamedi 22 Mars:o
  de 20h00 à 00h00\, observations nocturnes\nPréparez-vous de beaux souveni
 rs à partager et parlez-en autour de vous !\nL'accès est libre et gratuit
 \nNous vous rappelons que notre activité est dépendante des conditions mét
 éorologiques. En cas de ciel couvert la manifestation devra malheureusemen
 t être annulée.\nImportant : Afin de toujours conserver une voie de sécuri
 té pour l'éventuel passage d'un véhicule de secours et pour éviter une con
 travention\, merci de respecter les places de parking\, de vous garer de m
 anière ordonnée et sécuritaire.
DTSTART:20260320T190000Z
DTEND:20260320T225900Z
GEO:+48.724808;+7.338401
LOCATION:
ORGANIZER:
SEQUENCE:1
SUMMARY:Nuits de l'equinoxe - Episode 1
TRANSP:OPAQUE
URL:https://www.astronomie-nemesis.org/index.php/fr/agenda/322-nuits-de-leq
 uinoxe-episode-1
END:VEVENT
END:VCALENDAR
