BEGIN:VCALENDAR
VERSION:2.0
PRODID:-//Association d'Astronomie Nemesis//NONSGML kigkonsult.se iCalcreat
 or 2.30.10//
CALSCALE:GREGORIAN
METHOD:PUBLISH
UID:9e29ac58-f860-44c5-a62d-844226004086
X-WR-CALNAME:iCagenda
X-WR-CALDESC:Event Management Extension for Joomla!
X-WR-RELCALID:3E26604A-50F4-4449-8B3E-E4F4932D05B5
X-WR-TIMEZONE:Europe/Paris
BEGIN:VTIMEZONE
TZID:Europe/Paris
BEGIN:STANDARD
TZNAME:CET
DTSTART:20251026T030000
TZOFFSETFROM:+0200
TZOFFSETTO:+0100
RDATE:20261025T030000
END:STANDARD
BEGIN:DAYLIGHT
TZNAME:CEST
DTSTART:20260329T020000
TZOFFSETFROM:+0100
TZOFFSETTO:+0200
RDATE:20270328T020000
END:DAYLIGHT
END:VTIMEZONE
BEGIN:VEVENT
UID:f771fce1-7727-4020-a2aa-1e8438b148f0
DTSTAMP:20260423T214417Z
CATEGORIES:Activité interne
CLASS:PUBLIC
DESCRIPTION;ALTREP="CID:<FFFF__=0ABBE548DFE235B58f9e8a93d@coffeebean.com>":
 Rendez-vous au château du Haut Barr à partir de 19h\nSi météo favorable : 
 (ouvert au public → en fonction de la météo\, vérifier sur notre page Face
 book si la soirée est maintenue)\n• Observation. \n• Astrophoto\n• Support
  débutant\n&nbsp\;\nSi météo défavorable : (réservé aux membres)\n• Rencon
 tre dans le local autour d'un sujet prévu à l'avance.
DTSTART:20260417T170000Z
DTEND:20260417T170000Z
GEO:+48.724754;+7.338309
LOCATION:
ORGANIZER:
SEQUENCE:1
SUMMARY:Réunion du 17.04.2026
TRANSP:OPAQUE
URL:https://www.astronomie-nemesis.org/index.php/fr/agenda/306-reunion-du-1
 7-04-2026/2026-04-17-19-00
END:VEVENT
END:VCALENDAR
