BEGIN:VCALENDAR
VERSION:2.0
PRODID:-//Association d'Astronomie Nemesis//NONSGML kigkonsult.se iCalcreat
 or 2.30.10//
CALSCALE:GREGORIAN
METHOD:PUBLISH
UID:97a3e88b-e159-4ff7-9a0f-29be26d1eb2e
X-WR-CALNAME:iCagenda
X-WR-CALDESC:Event Management Extension for Joomla!
X-WR-RELCALID:3E26604A-50F4-4449-8B3E-E4F4932D05B5
X-WR-TIMEZONE:Europe/Paris
BEGIN:VTIMEZONE
TZID:Europe/Paris
BEGIN:STANDARD
TZNAME:CET
DTSTART:20231029T030000
TZOFFSETFROM:+0200
TZOFFSETTO:+0100
RDATE:20241027T030000
RDATE:20251026T030000
END:STANDARD
BEGIN:DAYLIGHT
TZNAME:CEST
DTSTART:20240331T020000
TZOFFSETFROM:+0100
TZOFFSETTO:+0200
RDATE:20250330T020000
END:DAYLIGHT
END:VTIMEZONE
BEGIN:VEVENT
UID:2b72a2f0-359d-41cf-a4eb-8e15ef4bbbc2
DTSTAMP:20260425T150509Z
CATEGORIES:Ephémérides
CLASS:PUBLIC
DESCRIPTION:
DTSTART:20240826T030000Z
DTEND:20240826T030000Z
GEO:00;0
LOCATION:
ORGANIZER:
SEQUENCE:1
SUMMARY:Rapprochement entre la Lune et les Pléiades
TRANSP:OPAQUE
URL:https://www.astronomie-nemesis.org/index.php/fr/agenda/273-rapprochemen
 t-entre-la-lune-et-les-pleiades/2024-08-26-05-00
END:VEVENT
END:VCALENDAR
