BEGIN:VCALENDAR
VERSION:2.0
PRODID:-//Association d'Astronomie Nemesis//NONSGML kigkonsult.se iCalcreat
 or 2.30.10//
CALSCALE:GREGORIAN
METHOD:PUBLISH
UID:41f10c9a-4fc3-4f10-b980-dcbdf24a0dd7
X-WR-CALNAME:iCagenda
X-WR-CALDESC:Event Management Extension for Joomla!
X-WR-RELCALID:3E26604A-50F4-4449-8B3E-E4F4932D05B5
X-WR-TIMEZONE:Europe/Paris
BEGIN:VTIMEZONE
TZID:Europe/Paris
BEGIN:STANDARD
TZNAME:CET
DTSTART:20211031T030000
TZOFFSETFROM:+0200
TZOFFSETTO:+0100
RDATE:20221030T030000
END:STANDARD
BEGIN:DAYLIGHT
TZNAME:CEST
DTSTART:20210328T020000
TZOFFSETFROM:+0100
TZOFFSETTO:+0200
RDATE:20220327T020000
RDATE:20230326T020000
END:DAYLIGHT
END:VTIMEZONE
BEGIN:VEVENT
UID:91f95276-742f-4d5f-a37f-d75074927a41
DTSTAMP:20260420T211817Z
CATEGORIES:Activité interne
CLASS:PUBLIC
DESCRIPTION;ALTREP="CID:<FFFF__=0ABBE548DFE235B58f9e8a93d@coffeebean.com>":
 Programme proposé :&nbsp\; - Table ronde pour un débriefing FireCapture. R
 etour d'expérience\, rappels des paramétrages\, version 2.7 beta - Présent
 ation de Autostakkert 3\, paramétrages\, exercices de compilation d'images
  (planétaire\, lunaire) - Présentation de Registax 6\, paramétrages\, exer
 cices de traitements d'images
DTSTART:20211120T130000Z
DTEND:20211120T130000Z
GEO:+48.724464;+7.33803
LOCATION:
ORGANIZER:
SEQUENCE:1
SUMMARY:Traitement images planétaire
TRANSP:OPAQUE
URL:https://www.astronomie-nemesis.org/index.php/fr/agenda/213-reunion-du-1
 2-03-2030/2021-11-20-14-00
END:VEVENT
END:VCALENDAR
