BEGIN:VCALENDAR
VERSION:2.0
PRODID:-//Association d'Astronomie Nemesis//NONSGML kigkonsult.se iCalcreat
 or 2.30.10//
CALSCALE:GREGORIAN
METHOD:PUBLISH
UID:d314a8cd-045f-46d6-82fb-6f8278d1dfcc
X-WR-CALNAME:iCagenda
X-WR-CALDESC:Event Management Extension for Joomla!
X-WR-RELCALID:3E26604A-50F4-4449-8B3E-E4F4932D05B5
X-WR-TIMEZONE:Europe/Paris
BEGIN:VTIMEZONE
TZID:Europe/Paris
BEGIN:STANDARD
TZNAME:CET
DTSTART:20201025T030000
TZOFFSETFROM:+0200
TZOFFSETTO:+0100
RDATE:20211031T030000
END:STANDARD
BEGIN:DAYLIGHT
TZNAME:CEST
DTSTART:20210328T020000
TZOFFSETFROM:+0100
TZOFFSETTO:+0200
RDATE:20220327T020000
END:DAYLIGHT
END:VTIMEZONE
BEGIN:VEVENT
UID:bcc9eae7-e99c-4d2c-874c-dcfddfc71782
DTSTAMP:20260422T062749Z
CATEGORIES:Activité interne
CLASS:PUBLIC
DESCRIPTION;ALTREP="CID:<FFFF__=0ABBE548DFE235B58f9e8a93d@coffeebean.com>":
 • SI CONFINEMENT: → 20h00Réservé aux membres : Réunion visio avec présenta
 tion de Florent sur le timelapse de transition jour-nuit.\n&nbsp\;
DTSTART:20210416T180000Z
DTEND:20210416T180000Z
GEO:00;0
LOCATION:
ORGANIZER:
SEQUENCE:1
SUMMARY:Réunion du 16.04.2021
TRANSP:OPAQUE
URL:https://www.astronomie-nemesis.org/index.php/fr/agenda/197-reunion-du-1
 2-03-2022/2021-04-16-20-00
END:VEVENT
END:VCALENDAR
