BEGIN:VCALENDAR
VERSION:2.0
PRODID:-//Association d'Astronomie Nemesis//NONSGML kigkonsult.se iCalcreat
 or 2.30.10//
CALSCALE:GREGORIAN
METHOD:PUBLISH
UID:c8af049b-ca52-4a71-acba-41643851d5f9
X-WR-CALNAME:iCagenda
X-WR-CALDESC:Event Management Extension for Joomla!
X-WR-RELCALID:3E26604A-50F4-4449-8B3E-E4F4932D05B5
X-WR-TIMEZONE:Europe/Paris
BEGIN:VTIMEZONE
TZID:Europe/Paris
BEGIN:STANDARD
TZNAME:CET
DTSTART:20201025T030000
TZOFFSETFROM:+0200
TZOFFSETTO:+0100
RDATE:20211031T030000
RDATE:20221030T030000
END:STANDARD
BEGIN:DAYLIGHT
TZNAME:CEST
DTSTART:20210328T020000
TZOFFSETFROM:+0100
TZOFFSETTO:+0200
RDATE:20220327T020000
END:DAYLIGHT
END:VTIMEZONE
BEGIN:VEVENT
UID:a96bd16a-fa69-4e58-9d2c-68dd9158349b
DTSTAMP:20260424T094011Z
CATEGORIES:Evénements publics
CLASS:PUBLIC
DESCRIPTION;ALTREP="CID:<FFFF__=0ABBE548DFE235B58f9e8a93d@coffeebean.com>":
 \n\n\n\n\n\nMalgré la situation sanitaire\, les Nuits des étoiles se tiend
 ront une nouvelle fois au château du Haut Barr à Saverne les 6 et 7 août 2
 021 !\n\n\nAfin de pouvoir continuer à vous faire profiter de la beauté du
  ciel estival cette année encore\, nous conserverons les mêmes mesures san
 itaires qu'en 2020 afin d'éviter la propagation du virus\, de ses variants
 \, vous protéger et protéger les astronomes bénévoles.\n\n\nLes observatio
 ns ne pourrons donc se faire que sur inscription.\n\n\nInformations et ins
 criptions sur :&nbsp\;Nuit des étoiles 2021\n\n\n\n\n\n\nVendredi 6 Août :
 o de 21h30 à 01h00\, observations nocturnes\nSamedi 7 Août :o de 14h00 à 1
 8h00\, observations solaireso de 18h00 à 21h30 pauseo de 21h30 à 01h00\, o
 bservations nocturnes
DTSTART:20210807T120000Z
DTEND:20210807T230000Z
GEO:+48.724808;+7.338401
LOCATION:
ORGANIZER:
SEQUENCE:1
SUMMARY:Nuits des étoiles - Episode 2
TRANSP:OPAQUE
URL:https://www.astronomie-nemesis.org/index.php/fr/agenda/189-nuits-des-et
 oiles-episode-6
END:VEVENT
END:VCALENDAR
