BEGIN:VCALENDAR
VERSION:2.0
PRODID:-//Association d'Astronomie Nemesis//NONSGML kigkonsult.se iCalcreat
 or 2.30.10//
CALSCALE:GREGORIAN
METHOD:PUBLISH
UID:be1fabbb-b335-420b-9186-6ee1628e83e4
X-WR-CALNAME:iCagenda
X-WR-CALDESC:Event Management Extension for Joomla!
X-WR-RELCALID:3E26604A-50F4-4449-8B3E-E4F4932D05B5
X-WR-TIMEZONE:Europe/Paris
BEGIN:VTIMEZONE
TZID:Europe/Paris
BEGIN:STANDARD
TZNAME:CET
DTSTART:20191027T030000
TZOFFSETFROM:+0200
TZOFFSETTO:+0100
RDATE:20201025T030000
RDATE:20211031T030000
END:STANDARD
BEGIN:DAYLIGHT
TZNAME:CEST
DTSTART:20200329T020000
TZOFFSETFROM:+0100
TZOFFSETTO:+0200
RDATE:20210328T020000
END:DAYLIGHT
END:VTIMEZONE
BEGIN:VEVENT
UID:71c97bd1-2c98-41ba-9cb8-795bff9e81b3
DTSTAMP:20260422T021453Z
CATEGORIES:Ephémérides
CLASS:PUBLIC
DESCRIPTION;ALTREP="CID:<FFFF__=0ABBE548DFE235B58f9e8a93d@coffeebean.com>":
 Cette éclipse de la Lune par la pénombre\, de faible magnitude\, sera visi
 ble en France dans son intégralité.
DTSTART:20200605T174600Z
DTEND:20200605T210400Z
GEO:00;0
LOCATION:
ORGANIZER:
SEQUENCE:1
SUMMARY:Eclipse de Lune par la pénombre
TRANSP:OPAQUE
URL:https://www.astronomie-nemesis.org/index.php/fr/agenda/184-eclipse-de-l
 une-totale-7
END:VEVENT
END:VCALENDAR
