BEGIN:VCALENDAR
VERSION:2.0
PRODID:-//Association d'Astronomie Nemesis//NONSGML kigkonsult.se iCalcreat
 or 2.30.10//
CALSCALE:GREGORIAN
METHOD:PUBLISH
UID:3f67be73-323f-4247-93ea-a598015aa967
X-WR-CALNAME:iCagenda
X-WR-CALDESC:Event Management Extension for Joomla!
X-WR-RELCALID:3E26604A-50F4-4449-8B3E-E4F4932D05B5
X-WR-TIMEZONE:Europe/Paris
BEGIN:VTIMEZONE
TZID:Europe/Paris
BEGIN:STANDARD
TZNAME:CET
DTSTART:20181028T030000
TZOFFSETFROM:+0200
TZOFFSETTO:+0100
RDATE:20191027T030000
RDATE:20201025T030000
END:STANDARD
BEGIN:DAYLIGHT
TZNAME:CEST
DTSTART:20190331T020000
TZOFFSETFROM:+0100
TZOFFSETTO:+0200
RDATE:20200329T020000
END:DAYLIGHT
END:VTIMEZONE
BEGIN:VEVENT
UID:e1ca73da-2c68-4c64-8a25-4517d730567c
DTSTAMP:20260424T101639Z
CATEGORIES:Evénements publics
CLASS:PUBLIC
DESCRIPTION;ALTREP="CID:<FFFF__=0ABBE548DFE235B58f9e8a93d@coffeebean.com>":
 2019 marque le cinquantième anniversaire du premier Homme sur la Lune. La 
 Lune est visible à l’oeil nu. Et pourtant\, peu ont eu la chance de la con
 templer dans une lunette ou un télescope et de découvrir que c’est un astr
 e admirable à regarder avec un instrument. L’opération On The Moon Again e
 st destinée à mettre la Lune à la portée de tous\, pour que petits ou gran
 ds\, puissent découvrir lors d’un évènement mondial la Lune au travers d’u
 n télescope ou d’une lunette astronomique. Elle a pour objectif de faire l
 ever au ciel les yeux de tous\, et de toucher un maximum de personnes et l
 e plus grand nombre est dans la rue ! On the Moon Again propose donc de s'
 installer là où il y a le plus de passage un centre ville\, le bord d'une 
 rivière\, devant un monument touristique\, un café ou un restaurant.  On t
 he Moon Again aura lieu les vendredi 12 et samedi 13 juillet 2019\, une se
 maine avant le 50ème anniversaire du premier pas de l’Homme sur la Lune.  
 La Lune a l'avantage d'être bien visible avec n'importe quel instrument\, 
 de la paire de jumelles\, au télescope de grand diamètre.  Le site officie
 l :  https://www.onthemoonagain.org/homefr
DTSTART:20190712T170000Z
DTEND:20190712T170000Z
GEO:00;0
LOCATION:
ORGANIZER;CN=:contact@astronomie-nemesis.org
SEQUENCE:1
SUMMARY:On the Moon Again - Episode 1
TRANSP:OPAQUE
URL:https://www.astronomie-nemesis.org/index.php/fr/agenda/161-on-the-moon-
 again-episode-1/2019-07-12-19-00
END:VEVENT
END:VCALENDAR
