BEGIN:VCALENDAR
VERSION:2.0
PRODID:-//Association d'Astronomie Nemesis//NONSGML kigkonsult.se iCalcreat
 or 2.30.10//
CALSCALE:GREGORIAN
METHOD:PUBLISH
UID:80427dd6-760a-4dc1-be4b-4ab63a45d731
X-WR-CALNAME:iCagenda
X-WR-CALDESC:Event Management Extension for Joomla!
X-WR-RELCALID:3E26604A-50F4-4449-8B3E-E4F4932D05B5
X-WR-TIMEZONE:Europe/Paris
BEGIN:VTIMEZONE
TZID:Europe/Paris
BEGIN:STANDARD
TZNAME:CET
DTSTART:20171029T030000
TZOFFSETFROM:+0200
TZOFFSETTO:+0100
RDATE:20181028T030000
RDATE:20191027T030000
END:STANDARD
BEGIN:DAYLIGHT
TZNAME:CEST
DTSTART:20180325T020000
TZOFFSETFROM:+0100
TZOFFSETTO:+0200
RDATE:20190331T020000
END:DAYLIGHT
END:VTIMEZONE
BEGIN:VEVENT
UID:1a6d4167-1c91-484a-9ab5-dbfdc112059f
DTSTAMP:20260422T173347Z
CATEGORIES:Activité interne
CLASS:PUBLIC
DESCRIPTION;ALTREP="CID:<FFFF__=0ABBE548DFE235B58f9e8a93d@coffeebean.com>":
 Ouvert aux visiteurs :\nSi la météo le permet observation du ciel et astro
 photo.\nPrévoir des vêtements chauds et une lampe rouge pour préserver la 
 vision nocturne.\nLe maintien ou non de la soirée sera annoncé la veille a
 u soir sur notre page Facebook.\nRéservé aux membres :\nEn cas de météo dé
 favorable nous nous retrouverons dans notre local autour d'un sujet défini
  à l'avance.\nLunaison : Premier Croissant - 09h41 / 00h29 - Âge : 4j\nPla
 nètes visibles : Venus - Uranus\nObjets remarquables : \n- NGC2403- Boule 
 de neige bleue (NGC7662)- Nébuleuse Pin-wheel (M99)- NGC4490- NGC2903- Gal
 axie de l'Oeil Noir (M64)- NGC2841- Fantôme de Jupiter (NGC3242)- Galaxie 
 de Bode (M81 &amp\; M82)- Nébuleuse du Hibou (M97)- NGC4631- M13- M53- La 
 Galaxie du Tourbillon (M51)- M3
DTSTART:20180427T170000Z
DTEND:20180427T170000Z
GEO:+48.724808;+7.338401
LOCATION:
ORGANIZER:
SEQUENCE:1
SUMMARY:Reunion du 27.04.2018
TRANSP:OPAQUE
URL:https://www.astronomie-nemesis.org/index.php/fr/agenda/130-reunion-du-2
 0-01-2023/2018-04-27-19-00
END:VEVENT
END:VCALENDAR
