BEGIN:VCALENDAR
VERSION:2.0
PRODID:-//Association d'Astronomie Nemesis//NONSGML kigkonsult.se iCalcreat
 or 2.30.10//
CALSCALE:GREGORIAN
METHOD:PUBLISH
UID:e677ddf5-840f-49cf-98a8-a886621405b5
X-WR-CALNAME:iCagenda
X-WR-CALDESC:Event Management Extension for Joomla!
X-WR-RELCALID:3E26604A-50F4-4449-8B3E-E4F4932D05B5
X-WR-TIMEZONE:Europe/Paris
BEGIN:VTIMEZONE
TZID:Europe/Paris
BEGIN:STANDARD
TZNAME:CET
DTSTART:20171029T030000
TZOFFSETFROM:+0200
TZOFFSETTO:+0100
RDATE:20181028T030000
RDATE:20191027T030000
END:STANDARD
BEGIN:DAYLIGHT
TZNAME:CEST
DTSTART:20180325T020000
TZOFFSETFROM:+0100
TZOFFSETTO:+0200
RDATE:20190331T020000
END:DAYLIGHT
END:VTIMEZONE
BEGIN:VEVENT
UID:f565551f-5bfb-44b1-836f-24c11a3aa79c
DTSTAMP:20260423T062004Z
CATEGORIES:Ephémérides
CLASS:PUBLIC
DESCRIPTION:
DTSTART:20180727T171400Z
DTEND:20180727T232800Z
GEO:00;0
LOCATION:
ORGANIZER:
SEQUENCE:1
SUMMARY:Eclipse de Lune Totale
TRANSP:OPAQUE
URL:https://www.astronomie-nemesis.org/index.php/fr/agenda/129-eclipse-de-l
 une-totale
END:VEVENT
END:VCALENDAR
