BEGIN:VCALENDAR
VERSION:2.0
PRODID:-//Association d'Astronomie Nemesis//NONSGML kigkonsult.se iCalcreat
 or 2.30.10//
CALSCALE:GREGORIAN
METHOD:PUBLISH
UID:51ffdb13-99cb-4d7e-b57c-f28db55e1b8b
X-WR-CALNAME:iCagenda
X-WR-CALDESC:Event Management Extension for Joomla!
X-WR-RELCALID:3E26604A-50F4-4449-8B3E-E4F4932D05B5
X-WR-TIMEZONE:Europe/Paris
BEGIN:VTIMEZONE
TZID:Europe/Paris
BEGIN:STANDARD
TZNAME:CET
DTSTART:20171029T030000
TZOFFSETFROM:+0200
TZOFFSETTO:+0100
RDATE:20181028T030000
RDATE:20191027T030000
END:STANDARD
BEGIN:DAYLIGHT
TZNAME:CEST
DTSTART:20180325T020000
TZOFFSETFROM:+0100
TZOFFSETTO:+0200
RDATE:20190331T020000
END:DAYLIGHT
END:VTIMEZONE
BEGIN:VEVENT
UID:9197f852-b472-4e3f-9eb7-2e36b4c401b1
DTSTAMP:20260425T114019Z
CATEGORIES:Evénements publics
CLASS:PUBLIC
DESCRIPTION:
DTSTART:20180803T190000Z
DTEND:20180803T230000Z
GEO:+48.724808;+7.338401
LOCATION:
ORGANIZER:
SEQUENCE:1
SUMMARY:Nuits des étoiles - Episode 1
TRANSP:OPAQUE
URL:https://www.astronomie-nemesis.org/index.php/fr/agenda/127-nuits-des-et
 oiles-episode-1
END:VEVENT
END:VCALENDAR
