BEGIN:VCALENDAR
VERSION:2.0
PRODID:-//Association d'Astronomie Nemesis//NONSGML kigkonsult.se iCalcreat
 or 2.30.10//
CALSCALE:GREGORIAN
METHOD:PUBLISH
UID:eabc80a9-6e07-4c8b-b845-b7f5e95708ad
X-WR-CALNAME:iCagenda
X-WR-CALDESC:Event Management Extension for Joomla!
X-WR-RELCALID:3E26604A-50F4-4449-8B3E-E4F4932D05B5
X-WR-TIMEZONE:Europe/Paris
BEGIN:VTIMEZONE
TZID:Europe/Paris
BEGIN:STANDARD
TZNAME:CET
DTSTART:20161030T030000
TZOFFSETFROM:+0200
TZOFFSETTO:+0100
RDATE:20171029T030000
END:STANDARD
BEGIN:DAYLIGHT
TZNAME:CEST
DTSTART:20170326T020000
TZOFFSETFROM:+0100
TZOFFSETTO:+0200
RDATE:20180325T020000
END:DAYLIGHT
END:VTIMEZONE
BEGIN:VEVENT
UID:eb404eed-5c00-4368-b05f-4a8d1b3385a7
DTSTAMP:20260421T192240Z
CATEGORIES:Ephémérides
CLASS:PUBLIC
DESCRIPTION:
DTSTART:20170406T220000Z
DTEND:20170406T220000Z
GEO:00;0
LOCATION:
ORGANIZER:
SEQUENCE:1
SUMMARY:Visible à l’œil nu.
TRANSP:OPAQUE
URL:https://www.astronomie-nemesis.org/index.php/fr/agenda/117-visible-a-l-
 oeil-nu/2017-04-07-00-00
END:VEVENT
END:VCALENDAR
