BEGIN:VCALENDAR
VERSION:2.0
PRODID:-//Association d'Astronomie Nemesis//NONSGML kigkonsult.se iCalcreat
 or 2.30.10//
CALSCALE:GREGORIAN
METHOD:PUBLISH
UID:0127d7d1-8e7a-44f5-8fe9-846659981cfd
X-WR-CALNAME:iCagenda
X-WR-CALDESC:Event Management Extension for Joomla!
X-WR-RELCALID:3E26604A-50F4-4449-8B3E-E4F4932D05B5
X-WR-TIMEZONE:Europe/Paris
BEGIN:VTIMEZONE
TZID:Europe/Paris
BEGIN:STANDARD
TZNAME:CET
DTSTART:20161030T030000
TZOFFSETFROM:+0200
TZOFFSETTO:+0100
RDATE:20171029T030000
END:STANDARD
BEGIN:DAYLIGHT
TZNAME:CEST
DTSTART:20170326T020000
TZOFFSETFROM:+0100
TZOFFSETTO:+0200
RDATE:20180325T020000
END:DAYLIGHT
END:VTIMEZONE
BEGIN:VEVENT
UID:880c3f7b-4a4f-47f4-a8ee-780615e60ef6
DTSTAMP:20260422T003522Z
CATEGORIES:Ephémérides
CLASS:PUBLIC
DESCRIPTION:
DTSTART:20170404T220000Z
DTEND:20170404T220000Z
GEO:00;0
LOCATION:
ORGANIZER:
SEQUENCE:1
SUMMARY:Visible à l’œil nu.
TRANSP:OPAQUE
URL:https://www.astronomie-nemesis.org/index.php/fr/agenda/116-visible-a-l-
 oeil-nu/2017-04-05-00-00
END:VEVENT
END:VCALENDAR
