BEGIN:VCALENDAR
VERSION:2.0
PRODID:-//Association d'Astronomie Nemesis//NONSGML kigkonsult.se iCalcreat
 or 2.30.10//
CALSCALE:GREGORIAN
METHOD:PUBLISH
UID:9358aeea-892d-403e-b92b-3626ae852a7c
X-WR-CALNAME:iCagenda
X-WR-CALDESC:Event Management Extension for Joomla!
X-WR-RELCALID:3E26604A-50F4-4449-8B3E-E4F4932D05B5
X-WR-TIMEZONE:Europe/Paris
BEGIN:VTIMEZONE
TZID:Europe/Paris
BEGIN:STANDARD
TZNAME:CET
DTSTART:20161030T030000
TZOFFSETFROM:+0200
TZOFFSETTO:+0100
RDATE:20171029T030000
END:STANDARD
BEGIN:DAYLIGHT
TZNAME:CEST
DTSTART:20160327T020000
TZOFFSETFROM:+0100
TZOFFSETTO:+0200
RDATE:20170326T020000
RDATE:20180325T020000
END:DAYLIGHT
END:VTIMEZONE
BEGIN:VEVENT
UID:15128446-fa03-464f-90f1-7455aef2f968
DTSTAMP:20260421T185332Z
CATEGORIES:Ephémérides
CLASS:PUBLIC
DESCRIPTION;ALTREP="CID:<FFFF__=0ABBE548DFE235B58f9e8a93d@coffeebean.com>":
 A environ 20 degrés au-dessus de l’horizon sud-sud-ouest la Lune gibbeuse 
 accompagne Jupiter et à Spica dans la constellation de la Vierge.\n&nbsp\;
 \n&nbsp\;\n
DTSTART:20170215T050000Z
DTEND:20170215T050000Z
GEO:00;0
LOCATION:
ORGANIZER:
SEQUENCE:1
SUMMARY:Rapprochement entre la Lune\, Jupiter et Spica
TRANSP:OPAQUE
URL:https://www.astronomie-nemesis.org/index.php/fr/agenda/105-rapprochemen
 t-entre-la-lune-jupiter-et-spica/2017-02-15-06-00
END:VEVENT
END:VCALENDAR
